BEGIN:VCALENDAR
VERSION:2.0
PRODID:-//hacksw/handcal//NONSGML v1.0//EN
CALSCALE:GREGORIAN
BEGIN:VEVENT
SUMMARY:Gemeinsames Frühstück
DTSTART:20260707T100000Z
DESCRIPTION:
DTEND:20210101T010000Z
LOCATION:Kappelmann\, Nienburgerstr. 6\, 29323 Wietze
DTSTAMP:20260422T012750Z
UID:69e807f6257cf
END:VEVENT
END:VCALENDAR