BEGIN:VCALENDAR
VERSION:2.0
PRODID:-//hacksw/handcal//NONSGML v1.0//EN
CALSCALE:GREGORIAN
BEGIN:VEVENT
SUMMARY:Haxenessen der Senioren Celle
DTSTART:20261006T120000Z
DESCRIPTION:
DTEND:20210101T010000Z
LOCATION:Gasthaus Niedersachsen\, Dorfstraße 11\, 29303 Bergen OT Eversen
DTSTAMP:20260422T012821Z
UID:69e80815e64cd
END:VEVENT
END:VCALENDAR