BEGIN:VCALENDAR
VERSION:2.0
PRODID:-//hacksw/handcal//NONSGML v1.0//EN
CALSCALE:GREGORIAN
BEGIN:VEVENT
SUMMARY:Kaffeetrinken der Senioren
DTSTART:20260901T143000Z
DESCRIPTION:
DTEND:20210101T010000Z
LOCATION:Allertal-Café\, Fuhrbergerstr. 217\, 29225 Celle
DTSTAMP:20260422T012750Z
UID:69e807f6537ab
END:VEVENT
END:VCALENDAR