BEGIN:VCALENDAR
VERSION:2.0
PRODID:-//hacksw/handcal//NONSGML v1.0//EN
CALSCALE:GREGORIAN
BEGIN:VEVENT
SUMMARY:Sitzung FG Steinmetze
DTSTART:20260507T180000Z
DESCRIPTION:
DTEND:20210101T010000Z
LOCATION:IG-BAU-Büro Hannover\, Otto-Brenner-Str. 1\, 30159 Hannover
DTSTAMP:20260424T025007Z
UID:69eabe3fab39c
END:VEVENT
END:VCALENDAR